BEGIN:VCALENDAR
VERSION:2.0
PRODID:-//Intand Corporation//Tandem//EN
METHOD:PUBLISH
BEGIN:VEVENT
DTSTAMP:20260424T034848Z
DTSTART:20181221T213000Z
DTEND:20181222T000000Z
TRANSP:TRANSPARENT
PRIORITY:0
SUMMARY:LN Varsity Boys BB Practice
LOCATION:HMS North Gym
DESCRIPTION:Schools:\nHeritage Middle School\n\nLocation:\nHMS North Gym\n
 \n
URL;VALUE=URI:http://liberty53.tandem.co/index.php?type=view&action=event&
 id=332099
CREATED:20181217T161600Z
LAST-MODIFIED:20181217T161600Z
UID:event-332099-liberty53@intand.com
END:VEVENT
END:VCALENDAR
