BEGIN:VCALENDAR
VERSION:2.0
PRODID:-//Intand Corporation//Tandem//EN
METHOD:PUBLISH
BEGIN:VEVENT
DTSTAMP:20260424T041346Z
DTSTART:20190222T180000Z
DTEND:20190222T210000Z
TRANSP:TRANSPARENT
PRIORITY:0
SUMMARY:DAC-408 Instructional Learning Coaches
LOCATION:DAC 4 - 408
DESCRIPTION:Groups:\nDAC Innovation & Learning\n\nSchools:\nDistrict Admin
 istration Center\n\nLocation:\nDAC 4 - 408\n\n
URL;VALUE=URI:http://liberty53.tandem.co/index.php?type=view&action=event&
 id=332065
CREATED:20181217T151827Z
LAST-MODIFIED:20181217T152708Z
UID:event_request-332065-liberty53@intand.com
END:VEVENT
END:VCALENDAR
