BEGIN:VCALENDAR
VERSION:2.0
PRODID:-//Intand Corporation//Tandem//EN
METHOD:PUBLISH
BEGIN:VEVENT
DTSTAMP:20260424T034820Z
DTSTART:20181218T211500Z
DTEND:20181218T221500Z
TRANSP:TRANSPARENT
PRIORITY:0
SUMMARY:LHS - Parent Meeting- Williams
LOCATION:LHS Guidance Conference Room
DESCRIPTION:Groups:\nLHS SPED\n\nSchools:\nLiberty High School\n\nLocation
 :\nLHS Guidance Conference Room\n\n
URL;VALUE=URI:http://liberty53.tandem.co/index.php?type=view&action=event&
 id=332037
CREATED:20181214T154716Z
LAST-MODIFIED:20181214T193531Z
UID:event_request-332037-liberty53@intand.com
END:VEVENT
END:VCALENDAR
