BEGIN:VCALENDAR
VERSION:2.0
PRODID:-//Intand Corporation//Tandem//EN
METHOD:PUBLISH
BEGIN:VEVENT
DTSTAMP:20260424T072952Z
DTSTART:20190123T140000Z
DTEND:20190123T183000Z
TRANSP:TRANSPARENT
PRIORITY:0
SUMMARY:[Cancelled] DAC 3- Board Room-Keystone Demo
LOCATION:DAC 3-Board Room
DESCRIPTION:Groups:\nAdministrative Systems\n\nSchools:\nDistrict Administ
 ration Center\n\nLocation:\nDAC 3-Board Room\n\n
URL;VALUE=URI:http://liberty53.tandem.co/index.php?type=view&action=event&
 id=332023
CREATED:20181213T201014Z
LAST-MODIFIED:20190110T204952Z
UID:event-332023-liberty53@intand.com
END:VEVENT
END:VCALENDAR
