BEGIN:VCALENDAR
VERSION:2.0
PRODID:-//Intand Corporation//Tandem//EN
METHOD:PUBLISH
BEGIN:VEVENT
DTSTAMP:20260424T053313Z
DTSTART:20190130T133000Z
DTEND:20190130T203000Z
TRANSP:TRANSPARENT
PRIORITY:0
SUMMARY:SVMS PE LGIR BECK ALL DAY
LOCATION:SVMS LGIR
DESCRIPTION:beck pe\n\nGroups:\nSVMS PE \n\nSchools:\nSouth Valley Middle 
 School\n\nLocation:\nSVMS LGIR\n\n
URL;VALUE=URI:http://liberty53.tandem.co/index.php?type=view&action=event&
 id=331920
CREATED:20181213T145738Z
LAST-MODIFIED:20181213T191858Z
UID:event_request-331920-liberty53@intand.com
END:VEVENT
END:VCALENDAR
