BEGIN:VCALENDAR
VERSION:2.0
PRODID:-//Intand Corporation//Tandem//EN
METHOD:PUBLISH
BEGIN:VEVENT
DTSTAMP:20260424T022539Z
DTSTART:20181218T210000Z
DTEND:20181219T000000Z
TRANSP:TRANSPARENT
PRIORITY:0
SUMMARY:Sapphires Practice
LOCATION:LMS Gym
DESCRIPTION:Groups:\nLMS Staff\n\nSchools:\nLiberty Middle School\n\nLocat
 ion:\nLMS Gym\n\n
URL;VALUE=URI:http://liberty53.tandem.co/index.php?type=view&action=event&
 id=331902
CREATED:20181213T023510Z
LAST-MODIFIED:20181213T023510Z
UID:event-331902-liberty53@intand.com
END:VEVENT
END:VCALENDAR
