BEGIN:VCALENDAR
VERSION:2.0
PRODID:-//Intand Corporation//Tandem//EN
METHOD:PUBLISH
BEGIN:VEVENT
DTSTAMP:20260424T023348Z
DTSTART:20190103T213000Z
DTEND:20190104T003000Z
TRANSP:TRANSPARENT
PRIORITY:0
SUMMARY:LHS-KC Athletics (Chad Frigon)
LOCATION:LHS Turf Game Field
DESCRIPTION:Groups:\nKC Athletics Soccer\n\nSchools:\nLiberty High School\
 n\nLocation:\nLHS Turf Game Field\n\n
URL;VALUE=URI:http://liberty53.tandem.co/index.php?type=view&action=event&
 id=331894
CREATED:20181212T191008Z
LAST-MODIFIED:20181212T191130Z
UID:event-331894-liberty53@intand.com
END:VEVENT
END:VCALENDAR
