BEGIN:VCALENDAR
VERSION:2.0
PRODID:-//Intand Corporation//Tandem//EN
METHOD:PUBLISH
BEGIN:VEVENT
DTSTAMP:20260424T072826Z
DTSTART:20190201T150000Z
DTEND:20190201T180000Z
TRANSP:TRANSPARENT
PRIORITY:0
SUMMARY:Transportation Safety Meeting
LOCATION:SS Conference Room
DESCRIPTION:Groups:\nSSC Transportation Staff\n\nSchools:\nDistrict Admini
 stration Center\n\nLocation:\nSS Conference Room\n\nPlease set up chairs f
 or 90 people for safety meeting. \n\n
URL;VALUE=URI:http://liberty53.tandem.co/index.php?type=view&action=event&
 id=331882
CREATED:20181212T132456Z
LAST-MODIFIED:20190212T142647Z
UID:event_request-331882-liberty53@intand.com
END:VEVENT
END:VCALENDAR
