BEGIN:VCALENDAR
VERSION:2.0
PRODID:-//Intand Corporation//Tandem//EN
METHOD:PUBLISH
BEGIN:VEVENT
DTSTAMP:20260424T080029Z
DTSTART:20190517T123000Z
DTEND:20190517T193000Z
TRANSP:TRANSPARENT
PRIORITY:0
SUMMARY:[Cancelled] SVMS-PE-LGIR-ALL DAY: Yigdall
LOCATION:SVMS LGIR
DESCRIPTION:Schools:\nSouth Valley Middle School\n\nLocation:\nSVMS LGIR\n
 \n
URL;VALUE=URI:http://liberty53.tandem.co/index.php?type=view&action=event&
 id=331861
CREATED:20181211T163310Z
LAST-MODIFIED:20190430T141204Z
UID:event_request-331861-liberty53@intand.com
END:VEVENT
END:VCALENDAR
