BEGIN:VCALENDAR
VERSION:2.0
PRODID:-//Intand Corporation//Tandem//EN
METHOD:PUBLISH
BEGIN:VEVENT
DTSTAMP:20260424T022535Z
DTSTART:20181219T133000Z
DTEND:20181219T203000Z
TRANSP:TRANSPARENT
PRIORITY:0
SUMMARY:SVMS-PE-LGIR-ALL DAY: Yigdall
LOCATION:SVMS LGIR
DESCRIPTION:Schools:\nSouth Valley Middle School\n\nLocation:\nSVMS LGIR\n
 \n
URL;VALUE=URI:http://liberty53.tandem.co/index.php?type=view&action=event&
 id=331801
CREATED:20181210T132051Z
LAST-MODIFIED:20181211T144435Z
UID:event_request-331801-liberty53@intand.com
END:VEVENT
END:VCALENDAR
