BEGIN:VCALENDAR
VERSION:2.0
PRODID:-//Intand Corporation//Tandem//EN
METHOD:PUBLISH
BEGIN:VEVENT
DTSTAMP:20260424T022511Z
DTSTART:20181210T180000Z
DTEND:20181210T203000Z
TRANSP:TRANSPARENT
PRIORITY:0
SUMMARY:DAC 3-Exec Conf Room  -  Dr. TUcker
LOCATION:DAC 3-Executive Conference Room
DESCRIPTION:Groups:\nSuperintendent\n\nSchools:\nDistrict Administration C
 enter\n\nLocation:\nDAC 3-Executive Conference Room\n\n
URL;VALUE=URI:http://liberty53.tandem.co/index.php?type=view&action=event&
 id=331792
CREATED:20181207T193949Z
LAST-MODIFIED:20181207T193949Z
UID:event-331792-liberty53@intand.com
END:VEVENT
END:VCALENDAR
