BEGIN:VCALENDAR
VERSION:2.0
PRODID:-//Intand Corporation//Tandem//EN
METHOD:PUBLISH
BEGIN:VEVENT
DTSTAMP:20260424T055140Z
DTSTART:20181212T163000Z
DTEND:20181212T171800Z
TRANSP:TRANSPARENT
PRIORITY:0
SUMMARY:SVMS-LGIR-SULLIVANT-SVMS
LOCATION:SVMS LGIR
DESCRIPTION:Groups:\nSVMS 8th Gr. Social Studies\n\nSchools:\nSouth Valley
  Middle School\n\nLocation:\nSVMS LGIR\n\n
URL;VALUE=URI:http://liberty53.tandem.co/index.php?type=view&action=event&
 id=331765
CREATED:20181207T190235Z
LAST-MODIFIED:20181207T190235Z
UID:event-331765-liberty53@intand.com
END:VEVENT
END:VCALENDAR
