BEGIN:VCALENDAR
VERSION:2.0
PRODID:-//Intand Corporation//Tandem//EN
METHOD:PUBLISH
BEGIN:VEVENT
DTSTAMP:20260424T061325Z
DTSTART:20181211T150000Z
DTEND:20181211T170000Z
TRANSP:TRANSPARENT
PRIORITY:0
SUMMARY:DAC-409 Special Services 
LOCATION:DAC 4 - 409
DESCRIPTION:Groups:\nSSC Special Services Staff\nDAC Innovation & Learning
 \n\nSchools:\nDistrict Administration Center\n\nLocation:\nDAC 4 - 409\n\n
URL;VALUE=URI:http://liberty53.tandem.co/index.php?type=view&action=event&
 id=331747
CREATED:20181207T151800Z
LAST-MODIFIED:20181207T185656Z
UID:event_request-331747-liberty53@intand.com
END:VEVENT
END:VCALENDAR
