BEGIN:VCALENDAR
VERSION:2.0
PRODID:-//Intand Corporation//Tandem//EN
METHOD:PUBLISH
BEGIN:VEVENT
DTSTAMP:20260424T033404Z
DTSTART:20190202T210000Z
DTEND:20190203T040000Z
TRANSP:TRANSPARENT
PRIORITY:0
SUMMARY:DECA Daddy Daughter Dance
LOCATION:LNHS Cafeteria (GH HVAC)\, LNHS Aux Gym - 407 (GH HVAC)
DESCRIPTION:LN DECA Fundraiser Daddy Daughter Dance Decorate outside AUX g
 ym most of the day DJ setup in AUX gym 3pm Dance 6:30-9pm Approx 200 atten
 dees\n\nSchools:\nLewis And Clark Elementary\nShoal Creek Elementary\nKell
 ybrook Elementary\nRidgeview Elementary\nWarren Hills Elementary\nFranklin
  Elementary\n\nLocations:\nLNHS Cafeteria (GH HVAC)\nLNHS Aux Gym - 407 (G
 H HVAC)\n\nContacts:\nKristen Hittner\n\n
URL;VALUE=URI:http://liberty53.tandem.co/index.php?type=view&action=event&
 id=331686
CREATED:20181205T192230Z
LAST-MODIFIED:20181207T193611Z
UID:event_request-331686-liberty53@intand.com
END:VEVENT
END:VCALENDAR
