BEGIN:VCALENDAR
VERSION:2.0
PRODID:-//Intand Corporation//Tandem//EN
METHOD:PUBLISH
BEGIN:VEVENT
DTSTAMP:20260424T064721Z
DTSTART:20190716T233000Z
DTEND:20190717T020000Z
TRANSP:TRANSPARENT
PRIORITY:0
SUMMARY:[Cancelled] KB-Auburndale Estates/Meadows HOA-White
LOCATION:KE Cafeteria
DESCRIPTION:Groups:\nAuburndale Estates/Meadows HOA\n\nSchools:\nKellybroo
 k Elementary\n\nLocation:\nKE Cafeteria\n\n
URL;VALUE=URI:http://liberty53.tandem.co/index.php?type=view&action=event&
 id=331677
CREATED:20181205T153225Z
LAST-MODIFIED:20181206T171224Z
UID:event-331677-liberty53@intand.com
END:VEVENT
END:VCALENDAR
