BEGIN:VCALENDAR
VERSION:2.0
PRODID:-//Intand Corporation//Tandem//EN
METHOD:PUBLISH
BEGIN:VEVENT
DTSTAMP:20260424T073112Z
DTSTART:20181207T130000Z
DTEND:20181207T190000Z
TRANSP:TRANSPARENT
PRIORITY:0
SUMMARY:8th Grade SS
LOCATION:SVMS LGIR
DESCRIPTION:Groups:\nSVMS 8th Gr. Social Studies\n\nSchools:\nSouth Valley
  Middle School\n\nLocation:\nSVMS LGIR\n\n
URL;VALUE=URI:http://liberty53.tandem.co/index.php?type=view&action=event&
 id=331616
CREATED:20181203T191821Z
LAST-MODIFIED:20181204T132313Z
UID:event_request-331616-liberty53@intand.com
END:VEVENT
END:VCALENDAR
