BEGIN:VCALENDAR
VERSION:2.0
PRODID:-//Intand Corporation//Tandem//EN
METHOD:PUBLISH
BEGIN:VEVENT
DTSTAMP:20260424T014550Z
DTSTART:20190206T135500Z
DTEND:20190206T145500Z
TRANSP:TRANSPARENT
PRIORITY:0
SUMMARY:[Cancelled] WH-Bricks 4 Kidz-Jobe
LOCATION:WHE Library
DESCRIPTION:Groups:\nBricks 4 Kidz\n\nSchools:\nWarren Hills Elementary\n\
 nLocation:\nWHE Library\n\n
URL;VALUE=URI:http://liberty53.tandem.co/index.php?type=view&action=event&
 id=331507
CREATED:20181203T144733Z
LAST-MODIFIED:20190206T184216Z
UID:event-331507-liberty53@intand.com
END:VEVENT
END:VCALENDAR
