BEGIN:VCALENDAR
VERSION:2.0
PRODID:-//Intand Corporation//Tandem//EN
METHOD:PUBLISH
BEGIN:VEVENT
DTSTAMP:20260424T091150Z
DTSTART:20181207T193000Z
DTEND:20181207T214500Z
TRANSP:TRANSPARENT
PRIORITY:0
SUMMARY:Health Presentation (Cont.) - Liberty Hospital
LOCATION:LNHS Performing Arts Theater (GH HVAC)
DESCRIPTION:Schools:\nLiberty North High School\n\nLocation:\nLNHS Perform
 ing Arts Theater (GH HVAC)\n\n
URL;VALUE=URI:http://liberty53.tandem.co/index.php?type=view&action=event&
 id=331498
CREATED:20181203T144026Z
LAST-MODIFIED:20181206T202647Z
UID:event_request-331498-liberty53@intand.com
END:VEVENT
END:VCALENDAR
