BEGIN:VCALENDAR
VERSION:2.0
PRODID:-//Intand Corporation//Tandem//EN
METHOD:PUBLISH
BEGIN:VEVENT
DTSTAMP:20260424T055216Z
DTSTART:20181203T143000Z
DTEND:20181203T163000Z
TRANSP:TRANSPARENT
PRIORITY:0
SUMMARY:LHS iReady 
LOCATION:LHS Small Group Room
DESCRIPTION:Groups:\nLHS Counselors\n\nSchools:\nLiberty High School\n\nLo
 cation:\nLHS Small Group Room\n\n
URL;VALUE=URI:http://liberty53.tandem.co/index.php?type=view&action=event&
 id=331482
CREATED:20181130T200535Z
LAST-MODIFIED:20181203T193640Z
UID:event_request-331482-liberty53@intand.com
END:VEVENT
END:VCALENDAR
