BEGIN:VCALENDAR
VERSION:2.0
PRODID:-//Intand Corporation//Tandem//EN
METHOD:PUBLISH
BEGIN:VEVENT
DTSTAMP:20260424T053318Z
DTSTART:20190116T131500Z
DTEND:20190116T161500Z
TRANSP:TRANSPARENT
PRIORITY:0
SUMMARY:DAC-408 Middle Level Health Speaker
LOCATION:DAC 4 - 408
DESCRIPTION:Sonya Richardson Thomas will be presenting to middle level Hea
 lth teachers on Self-Advocacy in teens.\n\nGroups:\nDMS Staff\nHMS Staff\n
 LMS Staff\nSVMS PE \nDAC Innovation & Learning\n\nSchools:\nDiscovery Midd
 le School\nDistrict Administration Center\nHeritage Middle School\nLiberty
  Middle School\nSouth Valley Middle School\n\nLocation:\nDAC 4 - 408\n\n
URL;VALUE=URI:http://liberty53.tandem.co/index.php?type=view&action=event&
 id=331449
CREATED:20181129T144051Z
LAST-MODIFIED:20181129T205923Z
UID:event_request-331449-liberty53@intand.com
END:VEVENT
END:VCALENDAR
