BEGIN:VCALENDAR
VERSION:2.0
PRODID:-//Intand Corporation//Tandem//EN
METHOD:PUBLISH
BEGIN:VEVENT
DTSTAMP:20260424T073009Z
DTSTART:20181205T000000Z
DTEND:20181205T030000Z
TRANSP:TRANSPARENT
PRIORITY:0
SUMMARY:LHS-KC Athletics Frigon
LOCATION:LHS Cokely Gym\, LHS Turf Game Field
DESCRIPTION:Groups:\nLHS Staff\n\nSchools:\nLiberty High School\n\nLocatio
 ns:\nLHS Cokely Gym\nLHS Turf Game Field\n\n
URL;VALUE=URI:http://liberty53.tandem.co/index.php?type=view&action=event&
 id=331374
CREATED:20181128T204107Z
LAST-MODIFIED:20181128T204107Z
UID:event-331374-liberty53@intand.com
END:VEVENT
END:VCALENDAR
