BEGIN:VCALENDAR
VERSION:2.0
PRODID:-//Intand Corporation//Tandem//EN
METHOD:PUBLISH
BEGIN:VEVENT
DTSTAMP:20260424T073007Z
DTSTART:20181129T200000Z
DTEND:20181129T203000Z
TRANSP:TRANSPARENT
PRIORITY:0
SUMMARY:Matt Saucier
LOCATION:LHS Administrative Conference Room
DESCRIPTION:Groups:\nLHS SPED\n\nSchools:\nLiberty High School\n\nLocation
 :\nLHS Administrative Conference Room\n\n
URL;VALUE=URI:http://liberty53.tandem.co/index.php?type=view&action=event&
 id=331344
CREATED:20181128T182634Z
LAST-MODIFIED:20181128T191647Z
UID:event_request-331344-liberty53@intand.com
END:VEVENT
END:VCALENDAR
