BEGIN:VCALENDAR
VERSION:2.0
PRODID:-//Intand Corporation//Tandem//EN
METHOD:PUBLISH
BEGIN:VEVENT
DTSTAMP:20260424T043134Z
DTSTART:20181129T140000Z
DTEND:20181129T180000Z
TRANSP:TRANSPARENT
PRIORITY:0
SUMMARY:DAC 3-Board Room  Holiday Goodies
LOCATION:DAC 3-Board Room
DESCRIPTION:Groups:\nDAC Staff\n\nSchools:\nDistrict Administration Center
 \n\nLocation:\nDAC 3-Board Room\n\n
URL;VALUE=URI:http://liberty53.tandem.co/index.php?type=view&action=event&
 id=331311
CREATED:20181127T141744Z
LAST-MODIFIED:20181127T141744Z
UID:event-331311-liberty53@intand.com
END:VEVENT
END:VCALENDAR
