BEGIN:VCALENDAR
VERSION:2.0
PRODID:-//Intand Corporation//Tandem//EN
METHOD:PUBLISH
BEGIN:VEVENT
DTSTAMP:20260424T042955Z
DTSTART:20190114T214500Z
DTEND:20190114T224500Z
TRANSP:TRANSPARENT
PRIORITY:0
SUMMARY:SC - Bricks 4 Kidz: STEM LEGO Class
LOCATION:SCE Room 25
DESCRIPTION:Groups:\nBricks 4 Kidz\n\nSchools:\nShoal Creek Elementary\n\n
 Location:\nSCE Room 25\n\n
URL;VALUE=URI:http://liberty53.tandem.co/index.php?type=view&action=event&
 id=331303
CREATED:20181126T205454Z
LAST-MODIFIED:20181126T205454Z
UID:event-331303-liberty53@intand.com
END:VEVENT
END:VCALENDAR
