BEGIN:VCALENDAR
VERSION:2.0
PRODID:-//Intand Corporation//Tandem//EN
METHOD:PUBLISH
BEGIN:VEVENT
DTSTAMP:20260424T022516Z
DTSTART:20190114T140500Z
DTEND:20190114T150500Z
TRANSP:TRANSPARENT
PRIORITY:0
SUMMARY: KB - Bricks 4 Kidz: STEM LEGO Class
LOCATION:KE Room 20
DESCRIPTION:Groups:\nBricks 4 Kidz\n\nSchools:\nKellybrook Elementary\n\nL
 ocation:\nKE Room 20\n\n
URL;VALUE=URI:http://liberty53.tandem.co/index.php?type=view&action=event&
 id=331301
CREATED:20181126T205001Z
LAST-MODIFIED:20181126T205001Z
UID:event-331301-liberty53@intand.com
END:VEVENT
END:VCALENDAR
