BEGIN:VCALENDAR
VERSION:2.0
PRODID:-//Intand Corporation//Tandem//EN
METHOD:PUBLISH
BEGIN:VEVENT
DTSTAMP:20260424T055132Z
DTSTART:20190311T160000Z
DTEND:20190312T043000Z
TRANSP:TRANSPARENT
PRIORITY:0
SUMMARY:DAC 3 • Board Rm • TOY Luncheon SET UP
LOCATION:DAC 3-Board Room
DESCRIPTION:Groups:\nDAC Communications\n\nSchools:\nDistrict Administrati
 on Center\n\nLocation:\nDAC 3-Board Room\n\n
URL;VALUE=URI:http://liberty53.tandem.co/index.php?type=view&action=event&
 id=331279
CREATED:20181121T191109Z
LAST-MODIFIED:20181121T191109Z
UID:event-331279-liberty53@intand.com
END:VEVENT
END:VCALENDAR
