BEGIN:VCALENDAR
VERSION:2.0
PRODID:-//Intand Corporation//Tandem//EN
METHOD:PUBLISH
BEGIN:VEVENT
DTSTAMP:20260424T073131Z
DTSTART:20181129T134500Z
DTEND:20181129T143000Z
TRANSP:TRANSPARENT
PRIORITY:0
SUMMARY:504 Eligibility Meeting
LOCATION:LNHS Room 707
DESCRIPTION:Groups:\nLNHS Guidance\n\nSchools:\nLiberty North High School\
 n\nLocation:\nLNHS Room 707\n\n
URL;VALUE=URI:http://liberty53.tandem.co/index.php?type=view&action=event&
 id=331266
CREATED:20181120T155728Z
LAST-MODIFIED:20181126T170951Z
UID:event_request-331266-liberty53@intand.com
END:VEVENT
END:VCALENDAR
