BEGIN:VCALENDAR
VERSION:2.0
PRODID:-//Intand Corporation//Tandem//EN
METHOD:PUBLISH
BEGIN:VEVENT
DTSTAMP:20260424T023652Z
DTSTART:20181205T000000Z
DTEND:20181205T030000Z
TRANSP:TRANSPARENT
PRIORITY:0
SUMMARY:Band Booster Meeting
LOCATION:LHS Room 815
DESCRIPTION:Setup: 5:30 pm\nBreakdown: 9:30 pm\n\nGroups:\nLHS Band\n\nSch
 ools:\nLiberty High School\n\nLocation:\nLHS Room 815\n\nContacts:\nEddie 
 Owen\nBrittany True\n\nSupervisors:\nEddie Owen\nBrittany True\n\n
URL;VALUE=URI:http://liberty53.tandem.co/index.php?type=view&action=event&
 id=331188
CREATED:20181119T212528Z
LAST-MODIFIED:20181127T160218Z
UID:event_request-331188-liberty53@intand.com
END:VEVENT
END:VCALENDAR
