BEGIN:VCALENDAR
VERSION:2.0
PRODID:-//Intand Corporation//Tandem//EN
METHOD:PUBLISH
BEGIN:VEVENT
DTSTAMP:20260424T053327Z
DTSTART:20181119T233000Z
DTEND:20181120T013000Z
TRANSP:TRANSPARENT
PRIORITY:0
SUMMARY:LNHS Student Council Game Night w MS 
LOCATION:LNHS Cafeteria (GH HVAC)
DESCRIPTION:Groups:\nLNHS Grade 9\nLNHS Grade 12\nLNHS Grade 11\nLNHS Grad
 e 10\n\nSchools:\nLiberty North High School\n\nLocation:\nLNHS Cafeteria (
 GH HVAC)\n\n
URL;VALUE=URI:http://liberty53.tandem.co/index.php?type=view&action=event&
 id=331155
CREATED:20181116T182855Z
LAST-MODIFIED:20181126T170951Z
UID:event_request-331155-liberty53@intand.com
END:VEVENT
END:VCALENDAR
