BEGIN:VCALENDAR
VERSION:2.0
PRODID:-//Intand Corporation//Tandem//EN
METHOD:PUBLISH
BEGIN:VEVENT
DTSTAMP:20260424T022513Z
DTSTART:20181204T150000Z
DTEND:20181204T153000Z
TRANSP:TRANSPARENT
PRIORITY:0
SUMMARY:Student meeting S.Grant
LOCATION:LHS Administrative Conference Room
DESCRIPTION:IEP-C.Mason\n\nGroups:\nLHS SPED\n\nSchools:\nLiberty High Sch
 ool\n\nLocation:\nLHS Administrative Conference Room\n\n
URL;VALUE=URI:http://liberty53.tandem.co/index.php?type=view&action=event&
 id=331145
CREATED:20181116T141504Z
LAST-MODIFIED:20181127T160218Z
UID:event_request-331145-liberty53@intand.com
END:VEVENT
END:VCALENDAR
