BEGIN:VCALENDAR
VERSION:2.0
PRODID:-//Intand Corporation//Tandem//EN
METHOD:PUBLISH
BEGIN:VEVENT
DTSTAMP:20260424T041418Z
DTSTART:20181130T133000Z
DTEND:20181130T143000Z
TRANSP:TRANSPARENT
PRIORITY:0
SUMMARY:LHS IEP Meeting - Bosch
LOCATION:LHS Administrative Conference Room
DESCRIPTION:Groups:\nSPED Staff\n\nSchools:\nLiberty High School\nDistrict
  Administration Center\n\nLocation:\nLHS Administrative Conference Room\n\
 n
URL;VALUE=URI:http://liberty53.tandem.co/index.php?type=view&action=event&
 id=331014
CREATED:20181115T031727Z
LAST-MODIFIED:20181116T135519Z
UID:event_request-331014-liberty53@intand.com
END:VEVENT
END:VCALENDAR
