BEGIN:VCALENDAR
VERSION:2.0
PRODID:-//Intand Corporation//Tandem//EN
METHOD:PUBLISH
BEGIN:VEVENT
DTSTAMP:20260424T034852Z
DTSTART:20181116T153000Z
DTEND:20181116T173000Z
TRANSP:TRANSPARENT
PRIORITY:0
SUMMARY:DAC 3-Executive Conference Room-Architect Mtg
LOCATION:DAC 3-Executive Conference Room
DESCRIPTION:Groups:\nDAC Chief Operations Officer\n\nSchools:\nDistrict Ad
 ministration Center\n\nLocation:\nDAC 3-Executive Conference Room\n\n
URL;VALUE=URI:http://liberty53.tandem.co/index.php?type=view&action=event&
 id=330978
CREATED:20181114T145301Z
LAST-MODIFIED:20181114T145301Z
UID:event-330978-liberty53@intand.com
END:VEVENT
END:VCALENDAR
