BEGIN:VCALENDAR
VERSION:2.0
PRODID:-//Intand Corporation//Tandem//EN
METHOD:PUBLISH
BEGIN:VEVENT
DTSTAMP:20260424T040547Z
DTSTART:20181114T133000Z
DTEND:20181114T210000Z
TRANSP:TRANSPARENT
PRIORITY:0
SUMMARY:Life classes
LOCATION:HMS Room 401
DESCRIPTION:Groups:\nHMS Students\n\nSchools:\nHeritage Middle School\n\nL
 ocation:\nHMS Room 401\n\n
URL;VALUE=URI:http://liberty53.tandem.co/index.php?type=view&action=event&
 id=330775
CREATED:20181114T131819Z
LAST-MODIFIED:20181114T131819Z
UID:event-330775-liberty53@intand.com
END:VEVENT
END:VCALENDAR
