BEGIN:VCALENDAR
VERSION:2.0
PRODID:-//Intand Corporation//Tandem//EN
METHOD:PUBLISH
BEGIN:VEVENT
DTSTAMP:20260424T040542Z
DTSTART:20181116T143000Z
DTEND:20181116T160000Z
TRANSP:TRANSPARENT
PRIORITY:0
SUMMARY:LHS - iReady 
LOCATION:LHS Small Group Room
DESCRIPTION:Groups:\nLHS Counselors\n\nSchools:\nLiberty High School\n\nLo
 cation:\nLHS Small Group Room\n\n
URL;VALUE=URI:http://liberty53.tandem.co/index.php?type=view&action=event&
 id=330743
CREATED:20181113T154931Z
LAST-MODIFIED:20181113T201754Z
UID:event_request-330743-liberty53@intand.com
END:VEVENT
END:VCALENDAR
