BEGIN:VCALENDAR
VERSION:2.0
PRODID:-//Intand Corporation//Tandem//EN
METHOD:PUBLISH
BEGIN:VEVENT
DTSTAMP:20260424T043402Z
DTSTART:20190326T193000Z
DTEND:20190327T003000Z
TRANSP:TRANSPARENT
PRIORITY:0
SUMMARY:LHS 8th Track Meet
LOCATION:DMS Track
DESCRIPTION:Groups:\nDMS Staff\nLHS 8th Grade Track\n\nSchools:\nDiscovery
  Middle School\nLiberty High School\nLiberty Middle School\n\nLocation:\nD
 MS Track\n\n
URL;VALUE=URI:http://liberty53.tandem.co/index.php?type=view&action=event&
 id=330521
CREATED:20181109T192512Z
LAST-MODIFIED:20181109T192512Z
UID:event-330521-liberty53@intand.com
END:VEVENT
END:VCALENDAR
