BEGIN:VCALENDAR
VERSION:2.0
PRODID:-//Intand Corporation//Tandem//EN
METHOD:PUBLISH
BEGIN:VEVENT
DTSTAMP:20260424T061359Z
DTSTART:20181117T000000Z
DTEND:20181117T020000Z
TRANSP:TRANSPARENT
PRIORITY:0
SUMMARY:LNWR Youth Practice - EWC
LOCATION:LNHS Wrestling Room
DESCRIPTION:Groups:\nLNHS Wrestling 0 EWC\n\nSchools:\nLiberty North High 
 School\n\nLocation:\nLNHS Wrestling Room\n\n
URL;VALUE=URI:http://liberty53.tandem.co/index.php?type=view&action=event&
 id=330410
CREATED:20181108T151001Z
LAST-MODIFIED:20181109T153657Z
UID:event_request-330410-liberty53@intand.com
END:VEVENT
END:VCALENDAR
