BEGIN:VCALENDAR
VERSION:2.0
PRODID:-//Intand Corporation//Tandem//EN
METHOD:PUBLISH
BEGIN:VEVENT
DTSTAMP:20260424T091212Z
DTSTART:20181107T010000Z
DTEND:20181107T023000Z
TRANSP:TRANSPARENT
PRIORITY:0
SUMMARY:LHS Band Booster Meeting
LOCATION:LHS Room 815
DESCRIPTION:Setup: 5:30 pm\nBreakdown: 9:00 pm\n\nGroups:\nLHS Color Guard
 \nLHS Band\n\nSchools:\nLiberty High School\n\nLocation:\nLHS Room 815\n\n
 Contacts:\nEddie Owen\nBrittany True\n\nSupervisors:\nEddie Owen\nBrittany
  True\n\n
URL;VALUE=URI:http://liberty53.tandem.co/index.php?type=view&action=event&
 id=330340
CREATED:20181106T135931Z
LAST-MODIFIED:20181106T174508Z
UID:event_request-330340-liberty53@intand.com
END:VEVENT
END:VCALENDAR
