BEGIN:VCALENDAR
VERSION:2.0
PRODID:-//Intand Corporation//Tandem//EN
METHOD:PUBLISH
BEGIN:VEVENT
DTSTAMP:20260424T161040Z
DTSTART:20181124T003000Z
DTEND:20181124T013000Z
TRANSP:TRANSPARENT
PRIORITY:0
SUMMARY:LHS - Liberty United Practice (McDorman)
LOCATION:LHS Auxiliary Gym
DESCRIPTION:Groups:\nLiberty United Soccer\n\nSchools:\nLiberty High Schoo
 l\n\nLocation:\nLHS Auxiliary Gym\n\n
URL;VALUE=URI:http://liberty53.tandem.co/index.php?type=view&action=event&
 id=330324
CREATED:20181105T205609Z
LAST-MODIFIED:20181105T205609Z
UID:event-330324-liberty53@intand.com
END:VEVENT
END:VCALENDAR
