BEGIN:VCALENDAR
VERSION:2.0
PRODID:-//Intand Corporation//Tandem//EN
METHOD:PUBLISH
BEGIN:VEVENT
DTSTAMP:20260424T014730Z
DTSTART:20190207T210500Z
DTEND:20190207T223000Z
TRANSP:TRANSPARENT
PRIORITY:0
SUMMARY:[Cancelled] EPIC - Girl Scout Troop 4301 (Babcock)
LOCATION:EPiC Studio 2 (304/305)
DESCRIPTION:Groups:\nGirls Scouts of NE Kansas and NW Missouri\n\nSchools:
 \nEPiC Elementary\n\nLocation:\nEPiC Studio 2 (304/305)\n\n
URL;VALUE=URI:http://liberty53.tandem.co/index.php?type=view&action=event&
 id=330272
CREATED:20181105T162624Z
LAST-MODIFIED:20190207T131619Z
UID:event-330272-liberty53@intand.com
END:VEVENT
END:VCALENDAR
