BEGIN:VCALENDAR
VERSION:2.0
PRODID:-//Intand Corporation//Tandem//EN
METHOD:PUBLISH
BEGIN:VEVENT
DTSTAMP:20260424T023206Z
DTSTART:20181109T000000Z
DTEND:20181109T020000Z
TRANSP:TRANSPARENT
PRIORITY:0
SUMMARY:LHS- Wrestling Meeting
LOCATION:LHS Learning Stairs
DESCRIPTION:Groups:\nLHS Wrestling\n\nSchools:\nLiberty High School\n\nLoc
 ation:\nLHS Learning Stairs\n\n
URL;VALUE=URI:http://liberty53.tandem.co/index.php?type=view&action=event&
 id=330262
CREATED:20181105T152153Z
LAST-MODIFIED:20181105T152153Z
UID:event-330262-liberty53@intand.com
END:VEVENT
END:VCALENDAR
