BEGIN:VCALENDAR
VERSION:2.0
PRODID:-//Intand Corporation//Tandem//EN
METHOD:PUBLISH
BEGIN:VEVENT
DTSTAMP:20260424T093407Z
DTSTART:20190203T163000Z
DTEND:20190204T003000Z
TRANSP:TRANSPARENT
PRIORITY:0
SUMMARY:LS - I9 Sports: Winter Basketball League
LOCATION:LSE Gym
DESCRIPTION:Groups:\nI9 Sports\n\nSchools:\nLillian Schumacher Elementary\
 n\nLocation:\nLSE Gym\n\n
URL;VALUE=URI:http://liberty53.tandem.co/index.php?type=view&action=event&
 id=330249
CREATED:20181102T192203Z
LAST-MODIFIED:20190118T172445Z
UID:event-330249-liberty53@intand.com
END:VEVENT
END:VCALENDAR
