BEGIN:VCALENDAR
VERSION:2.0
PRODID:-//Intand Corporation//Tandem//EN
METHOD:PUBLISH
BEGIN:VEVENT
DTSTAMP:20260424T022436Z
DTSTART:20190107T213000Z
DTEND:20190107T233000Z
TRANSP:TRANSPARENT
PRIORITY:0
SUMMARY:LNWR Conditioning Practice
LOCATION:LNHS Fieldhouse Turf Room
DESCRIPTION:Groups:\nLNHS Wrestling - Boys JV/Varsity\n\nSchools:\nLiberty
  North High School\n\nLocation:\nLNHS Fieldhouse Turf Room\n\n
URL;VALUE=URI:http://liberty53.tandem.co/index.php?type=view&action=event&
 id=330153
CREATED:20181101T220035Z
LAST-MODIFIED:20181105T171458Z
UID:event_request-330153-liberty53@intand.com
END:VEVENT
END:VCALENDAR
