BEGIN:VCALENDAR
VERSION:2.0
PRODID:-//Intand Corporation//Tandem//EN
METHOD:PUBLISH
BEGIN:VEVENT
DTSTAMP:20260424T055118Z
DTSTART:20181114T180000Z
DTEND:20181114T190000Z
TRANSP:TRANSPARENT
PRIORITY:0
SUMMARY:SVMS-CONF. ST. I-B. FULLER-MTG.-SVMS
LOCATION:SVMS Conference Suite I
DESCRIPTION:Groups:\nSVMS Staff\n\nSchools:\nSouth Valley Middle School\n\
 nLocation:\nSVMS Conference Suite I\n\n
URL;VALUE=URI:http://liberty53.tandem.co/index.php?type=view&action=event&
 id=330093
CREATED:20181101T121347Z
LAST-MODIFIED:20181101T121347Z
UID:event-330093-liberty53@intand.com
END:VEVENT
END:VCALENDAR
