BEGIN:VCALENDAR
VERSION:2.0
PRODID:-//Intand Corporation//Tandem//EN
METHOD:PUBLISH
BEGIN:VEVENT
DTSTAMP:20260424T022419Z
DTSTART:20181114T181000Z
DTEND:20181114T183000Z
TRANSP:TRANSPARENT
PRIORITY:0
SUMMARY:LN Commencement Meeting
LOCATION:LNHS LMC - 200
DESCRIPTION:Groups:\nLNHS Grade 12\n\nSchools:\nLiberty North High School\
 n\nLocation:\nLNHS LMC - 200\n\n
URL;VALUE=URI:http://liberty53.tandem.co/index.php?type=view&action=event&
 id=330084
CREATED:20181031T141934Z
LAST-MODIFIED:20181112T172243Z
UID:event-330084-liberty53@intand.com
END:VEVENT
END:VCALENDAR
