BEGIN:VCALENDAR
VERSION:2.0
PRODID:-//Intand Corporation//Tandem//EN
METHOD:PUBLISH
BEGIN:VEVENT
DTSTAMP:20260424T075940Z
DTSTART:20190611T120000Z
DTEND:20190611T220000Z
TRANSP:TRANSPARENT
PRIORITY:0
SUMMARY:LNHS - Go Share MO Conference
LOCATION:LNHS Room 907\, LNHS Cafeteria (GH HVAC)\, LNHS Performing Arts T
 heater (GH HVAC)\, LNHS Room 905
DESCRIPTION:Groups:\nTechnology\n\nSchools:\nLiberty North High School\n\n
 Locations:\nLNHS Room 907\nLNHS Cafeteria (GH HVAC)\nLNHS Performing Arts 
 Theater (GH HVAC)\nLNHS Room 905\n\nContacts:\nTrey Katzer\n\n900 Wings\n\
 n
URL;VALUE=URI:http://liberty53.tandem.co/index.php?type=view&action=event&
 id=330022
CREATED:20181029T194609Z
LAST-MODIFIED:20181029T194609Z
UID:event-330022-liberty53@intand.com
END:VEVENT
END:VCALENDAR
