BEGIN:VCALENDAR
VERSION:2.0
PRODID:-//Intand Corporation//Tandem//EN
METHOD:PUBLISH
BEGIN:VEVENT
DTSTAMP:20260424T073659Z
DTSTART:20190418T150000Z
DTEND:20190418T160000Z
TRANSP:TRANSPARENT
PRIORITY:0
SUMMARY:DAC 3 • Board Rm • Coffee With the Community
LOCATION:DAC 3-Board Room
DESCRIPTION:Setup: 8:00 am\nBreakdown: 11:30 am\n\nGroups:\nDAC Communicat
 ions\n\nSchools:\nDistrict Administration Center\n\nLocation:\nDAC 3-Board
  Room\n\n
URL;VALUE=URI:http://liberty53.tandem.co/index.php?type=view&action=event&
 id=329845
CREATED:20181024T194720Z
LAST-MODIFIED:20181024T194720Z
UID:event-329845-liberty53@intand.com
END:VEVENT
END:VCALENDAR
