BEGIN:VCALENDAR
VERSION:2.0
PRODID:-//Intand Corporation//Tandem//EN
METHOD:PUBLISH
BEGIN:VEVENT
DTSTAMP:20260424T041012Z
DTSTART:20181107T134500Z
DTEND:20181107T141000Z
TRANSP:TRANSPARENT
PRIORITY:0
SUMMARY:LHS - Bosch: IEP Meeting
LOCATION:LHS Room 606
DESCRIPTION:Groups:\nLHS SPED\n\nSchools:\nLiberty High School\n\nLocation
 :\nLHS Room 606\n\n
URL;VALUE=URI:http://liberty53.tandem.co/index.php?type=view&action=event&
 id=329834
CREATED:20181024T185500Z
LAST-MODIFIED:20181024T192328Z
UID:event_request-329834-liberty53@intand.com
END:VEVENT
END:VCALENDAR
