BEGIN:VCALENDAR
VERSION:2.0
PRODID:-//Intand Corporation//Tandem//EN
METHOD:PUBLISH
BEGIN:VEVENT
DTSTAMP:20260424T054445Z
DTSTART:20181030T200000Z
DTEND:20181030T210000Z
TRANSP:TRANSPARENT
PRIORITY:0
SUMMARY:DAC-410 Feb PD Input for DAS Directors
LOCATION:DAC 4 - 410
DESCRIPTION:Groups:\nDAC Innovation & Learning\n\nSchools:\nDistrict Admin
 istration Center\n\nLocation:\nDAC 4 - 410\n\n
URL;VALUE=URI:http://liberty53.tandem.co/index.php?type=view&action=event&
 id=329828
CREATED:20181024T170615Z
LAST-MODIFIED:20181024T191746Z
UID:event_request-329828-liberty53@intand.com
END:VEVENT
END:VCALENDAR
