BEGIN:VCALENDAR
VERSION:2.0
PRODID:-//Intand Corporation//Tandem//EN
METHOD:PUBLISH
BEGIN:VEVENT
DTSTAMP:20260424T043658Z
DTSTART:20181113T211500Z
DTEND:20181113T220000Z
TRANSP:TRANSPARENT
PRIORITY:0
SUMMARY:LHS - Parent Meeting - Henderson
LOCATION:LHS Guidance Conference Room
DESCRIPTION:Groups:\nLHS SPED\n\nSchools:\nLiberty High School\n\nLocation
 :\nLHS Guidance Conference Room\n\n
URL;VALUE=URI:http://liberty53.tandem.co/index.php?type=view&action=event&
 id=329827
CREATED:20181024T170301Z
LAST-MODIFIED:20181024T192328Z
UID:event_request-329827-liberty53@intand.com
END:VEVENT
END:VCALENDAR
