BEGIN:VCALENDAR
VERSION:2.0
PRODID:-//Intand Corporation//Tandem//EN
METHOD:PUBLISH
BEGIN:VEVENT
DTSTAMP:20260424T055313Z
DTSTART:20181204T210000Z
DTEND:20181204T230000Z
TRANSP:TRANSPARENT
PRIORITY:0
SUMMARY:LHS- Boys Basketball Practice
LOCATION:LHS Fieldhouse Gym
DESCRIPTION:Groups:\nLHS Boys Basketball Freshman\n\nSchools:\nLiberty Hig
 h School\n\nLocation:\nLHS Fieldhouse Gym\n\n
URL;VALUE=URI:http://liberty53.tandem.co/index.php?type=view&action=event&
 id=329757
CREATED:20181023T182221Z
LAST-MODIFIED:20181023T182221Z
UID:event-329757-liberty53@intand.com
END:VEVENT
END:VCALENDAR
